BEGIN:VCALENDAR
VERSION:2.0
PRODID:-//Level Up Academy - ECPv6.15.20//NONSGML v1.0//EN
CALSCALE:GREGORIAN
METHOD:PUBLISH
X-ORIGINAL-URL:https://levelup-academy.be
X-WR-CALDESC:Évènements pour Level Up Academy
REFRESH-INTERVAL;VALUE=DURATION:PT1H
X-Robots-Tag:noindex
X-PUBLISHED-TTL:PT1H
BEGIN:VTIMEZONE
TZID:Europe/Brussels
BEGIN:DAYLIGHT
TZOFFSETFROM:+0100
TZOFFSETTO:+0200
TZNAME:CEST
DTSTART:20220327T010000
END:DAYLIGHT
BEGIN:STANDARD
TZOFFSETFROM:+0200
TZOFFSETTO:+0100
TZNAME:CET
DTSTART:20221030T010000
END:STANDARD
BEGIN:DAYLIGHT
TZOFFSETFROM:+0100
TZOFFSETTO:+0200
TZNAME:CEST
DTSTART:20230326T010000
END:DAYLIGHT
BEGIN:STANDARD
TZOFFSETFROM:+0200
TZOFFSETTO:+0100
TZNAME:CET
DTSTART:20231029T010000
END:STANDARD
BEGIN:DAYLIGHT
TZOFFSETFROM:+0100
TZOFFSETTO:+0200
TZNAME:CEST
DTSTART:20240331T010000
END:DAYLIGHT
BEGIN:STANDARD
TZOFFSETFROM:+0200
TZOFFSETTO:+0100
TZNAME:CET
DTSTART:20241027T010000
END:STANDARD
BEGIN:DAYLIGHT
TZOFFSETFROM:+0100
TZOFFSETTO:+0200
TZNAME:CEST
DTSTART:20250330T010000
END:DAYLIGHT
BEGIN:STANDARD
TZOFFSETFROM:+0200
TZOFFSETTO:+0100
TZNAME:CET
DTSTART:20251026T010000
END:STANDARD
END:VTIMEZONE
BEGIN:VEVENT
DTSTART;TZID=Europe/Brussels:20230924T103000
DTEND;TZID=Europe/Brussels:20240602T130000
DTSTAMP:20260423T200604
CREATED:20230207T091840Z
LAST-MODIFIED:20240115T140901Z
UID:29563-1695551400-1717333200@levelup-academy.be
SUMMARY:Inscriptions LEVEL UP ACADEMY 2023-2024
DESCRIPTION:Les ateliers PédagoGeek sont de retour !Inscriptions 2023-2024\nLevel UP Academy propose ses animations de découvertes scientifiques et elles débuteront déjà ce 24 Septembre 2023! \n\n\nVous souhaitez inscrire votre enfant et lui offrir une occasion de participer à une aventure pleine de découvertes originales ? Réservez lui sa place dès maintenant (attention places limitées).\n \nInfos pratiques :\n\nNos ateliers sont destinés à tous les enfants curieux de 7 à 12 ans.\nLes activités se déroulent dans nos locaux de Schaerbeek situés au 2 Square Apollo\, Bruxelles\nHoraire: les dimanches de 10h30 à 13h00\nTarifs : 165€ / module\nTarif préférentiel pour le public schaerbeekois: réduction de 30€\nLe paiement se fait via notre site internet\nModule 1 : du 24 Septembre au 17 Décembre 2023 (cf. dates de congés)\nModule 2 : du 4 Février au 2 Juin 2024 (cf. dates de congés)\nLevel Up Academy sera en congé pour les dates suivantes :\n\n22\, 29 Octobre et 05 Novembre 2023 (congé d’automne)\n25 Février\, 03 et 10 Mars 2024 (congé de Carnaval)\n31 Mars (Pâques)\n5\, 12\, 19 Mai 2024 (congé de Printemps)\n\n\n\n\n\n\nDes questions ? Vous pouvez nous contacter via nos réseaux sociaux ou encore par mail info@levelup-academy.be\, nous répondrons à toutes vos questions.\n\n			\n			\n				\n				\n				\n				\n				\n				\n				\n				\n				\n				\n			\n			\n				\n				\n				\n				\n			\n				\n				\n				\n				\n				\n				\n				agsdix-fab fa-instagram\n			\n			\n				\n				\n				\n				\n				\n				agsdix-fab fa-facebook-square
URL:https://levelup-academy.be/activite/inscriptions-2023-2024/
LOCATION:Level Up Academy\, Square Apollo 2\, Bruxelles\, Bruxelles\, 1030\, Belgique
CATEGORIES:Les modules,Nos activités
END:VEVENT
BEGIN:VEVENT
DTSTART;TZID=Europe/Brussels:20240229T100000
DTEND;TZID=Europe/Brussels:20240229T100000
DTSTAMP:20260423T200604
CREATED:20231011T123722Z
LAST-MODIFIED:20250405T200310Z
UID:29849-1709200800-1709200800@levelup-academy.be
SUMMARY:Ateliers Ingénierie GEEK
DESCRIPTION:Ateliers INGENIEURIE GEEK \n\nParents\, offrez à votre enfant une expérience d’éveil scientifique unique aux Ateliers PédagoGEEK durant ces congés de printemps \n\nAu programme :\n C’est quoi l’électricité ? \n Comment fonctionne un circuit électrique ? \n Découverte des circuits imprimés \n Première soudure électrique ! (Les enfants repartiront avec leur propre lampe torche\n\n \n			\n				\n				\n				\n				\n				\n			\n				\n				\n				\n				\n				Date : les mercredi et dimanche 30/03\, 04/04\, 07/04 et 11/04\nHoraire : de 13h à 16h\nLieu : Square Apollo 2\, 1030 Bruxelles\nÂge : 9 a 12 ans\nTarif réduit et places limitées ! Inscrivez votre enfant dès maintenant !
URL:https://levelup-academy.be/activite/ingenierie-geek-tarif-reduit/
LOCATION:Level Up Academy\, Square Apollo 2\, Bruxelles\, Bruxelles\, 1030\, Belgique
CATEGORIES:Les événements,Nos activités
ATTACH;FMTTYPE=image/png:https://levelup-academy.be/wp-content/uploads/2023/04/IMG_blog_Img_header_SPIKE-Essential.png
END:VEVENT
END:VCALENDAR