BEGIN:VCALENDAR
VERSION:2.0
PRODID:-//Level Up Academy - ECPv6.15.20//NONSGML v1.0//EN
CALSCALE:GREGORIAN
METHOD:PUBLISH
X-WR-CALNAME:Level Up Academy
X-ORIGINAL-URL:https://levelup-academy.be
X-WR-CALDESC:Évènements pour Level Up Academy
REFRESH-INTERVAL;VALUE=DURATION:PT1H
X-Robots-Tag:noindex
X-PUBLISHED-TTL:PT1H
BEGIN:VTIMEZONE
TZID:Europe/Brussels
BEGIN:DAYLIGHT
TZOFFSETFROM:+0100
TZOFFSETTO:+0200
TZNAME:CEST
DTSTART:20230326T010000
END:DAYLIGHT
BEGIN:STANDARD
TZOFFSETFROM:+0200
TZOFFSETTO:+0100
TZNAME:CET
DTSTART:20231029T010000
END:STANDARD
BEGIN:DAYLIGHT
TZOFFSETFROM:+0100
TZOFFSETTO:+0200
TZNAME:CEST
DTSTART:20240331T010000
END:DAYLIGHT
BEGIN:STANDARD
TZOFFSETFROM:+0200
TZOFFSETTO:+0100
TZNAME:CET
DTSTART:20241027T010000
END:STANDARD
BEGIN:DAYLIGHT
TZOFFSETFROM:+0100
TZOFFSETTO:+0200
TZNAME:CEST
DTSTART:20250330T010000
END:DAYLIGHT
BEGIN:STANDARD
TZOFFSETFROM:+0200
TZOFFSETTO:+0100
TZNAME:CET
DTSTART:20251026T010000
END:STANDARD
END:VTIMEZONE
BEGIN:VEVENT
DTSTART;TZID=Europe/Brussels:20241006T103000
DTEND;TZID=Europe/Brussels:20241222T130000
DTSTAMP:20260421T175826
CREATED:20240927T121525Z
LAST-MODIFIED:20250116T082034Z
UID:30031-1728210600-1734872400@levelup-academy.be
SUMMARY:Inscription 2024-2025
DESCRIPTION:Inscriptions aux ateliers PedagoGEEK\nLevel UP Academy propose ses animations de découvertes scientifiques ! \n\nVous souhaitez inscrire votre enfant et lui offrir une occasion de participer à une aventure pleine de découvertes originales ? Réservez lui sa place dès maintenant (attention places limitées).\n \nInfos pratiques :\n\nNos ateliers sont destinés à tous les enfants curieux de 7 à 12 ans.\nLes activités se déroulent dans nos locaux à Schaerbeek situés au 2 Square Apollo\, Bruxelles\nHoraire: les dimanches de 10h30 à 13h00\nTarifs : 150€\nLe paiement se fait via notre site internet\nDates des activités:du 02/02 au 25/05/2025\nDates des congés:23/02\, 02/03\, 09/03 (période Carnaval)\n20/04\, 27/04\, 04/05 et 11/04 (période Paque) \n\n\n\n\nDes questions ? Vous pouvez nous contacter via nos réseaux sociaux ou encore par mail info@levelup-academy.be\, nous répondrons à toutes vos questions.\n\n			\n			\n				\n				\n				\n				\n				\n				\n				\n				\n				\n				\n			\n			\n				\n				\n				\n				\n			\n				\n				\n				\n				\n				\n				\n				agsdix-fab fa-instagram\n			\n			\n				\n				\n				\n				\n				\n				agsdix-fab fa-facebook-square
URL:https://levelup-academy.be/activite/inscription_atelier_pedagogeek_2024-2025/
LOCATION:Level Up Academy\, Square Apollo 2\, Bruxelles\, Bruxelles\, 1030\, Belgique
CATEGORIES:Les modules,Nos activités
END:VEVENT
BEGIN:VEVENT
DTSTART;TZID=Europe/Brussels:20241230T093000
DTEND;TZID=Europe/Brussels:20241230T093000
DTSTAMP:20260421T175827
CREATED:20241122T093135Z
LAST-MODIFIED:20241122T121909Z
UID:30060-1735551000-1735551000@levelup-academy.be
SUMMARY:Stage d'Hiver 2024 _ Level Up Academy X Yume House
DESCRIPTION:Stage d’hiver STEM & Création de Contenu: \nOffre à ton enfant de 9 à 16 ans une expérience unique ! Level Up Academy & Yume House unissent leurs forces pour organiser un stage d’hiver inoubliable.Une opportunité parfaite pour apprendre\, créer et s’amuser !\nAu programme :\n\nÉlectronique\nRobotique\nModélisation & Impression 3D\nMontage vidéo & sensibilisation au partage de contenu sur le net\n\nPublic : 9-16 ansDates : 30 décembre – 3 janvier 2025️Horaire : 9h30 – 16h00Lieu : Rue Osseghem 53\, 1080 BruxellesTarif: 120€ \nNous restons à votre disposition pour toute question ou information complémentaire.
URL:https://levelup-academy.be/activite/stagedhiver2024/
LOCATION:Privé : Yume House\, Rue Osseghem 53\, Molenbeek\, Bruxelles\, 1080\, Belgium
CATEGORIES:Les événements,Les stages,Nos activités
END:VEVENT
END:VCALENDAR